BEGIN:VCALENDAR
VERSION:2.0
PRODID:-//Charlie Waller Institute - ECPv5.16.4//NONSGML v1.0//EN
CALSCALE:GREGORIAN
METHOD:PUBLISH
X-WR-CALNAME:Charlie Waller Institute
X-ORIGINAL-URL:https://sites.reading.ac.uk/charlie-waller-institute
X-WR-CALDESC:Events for Charlie Waller Institute
BEGIN:VTIMEZONE
TZID:Europe/London
BEGIN:DAYLIGHT
TZOFFSETFROM:+0000
TZOFFSETTO:+0100
TZNAME:BST
DTSTART:20200329T010000
END:DAYLIGHT
BEGIN:STANDARD
TZOFFSETFROM:+0100
TZOFFSETTO:+0000
TZNAME:GMT
DTSTART:20201025T010000
END:STANDARD
END:VTIMEZONE
BEGIN:VEVENT
DTSTART;TZID=Europe/London:20201014T093000
DTEND;TZID=Europe/London:20201014T163000
DTSTAMP:20260422T010743
CREATED:20200608T094550Z
LAST-MODIFIED:20200608T094550Z
UID:26-1602667800-1602693000@sites.reading.ac.uk
SUMMARY:Chronic Fatigue Syndrome: a Cognitive Behavioural Approach
DESCRIPTION:Introduction:\nChronic Fatigue Syndrome (CFS)\, or Myalgic Encephalomyelitis\, is characterised by severe physical and mental fatigue of at least six months duration and is associated with significant disability. It is a controversial condition which has been associated with polarised debates about whether the condition is physical or psychological in nature. \nContent:\nIn order to transcend this dualistic bio-medical approach a cognitive behavioural model is used to understand the condition\, which makes a distinction between precipitating and perpetuating factors. During treatment\, a range of techniques such as a graded approach to activity and cognitive restructuring are used with the aim of improving disability and reducing symptoms. If appropriate\, once the client has broadened their view of health and illness\, more sophisticated cognitive techniques are introduced to address perfectionism\, beliefs about showing emotions publically and/or shame. There are several randomized controlled trials providing evidence for CBT and recent studies suggest that fear avoidance beliefs mediate change in social adjustment and fatigue. Participants are expected to roleplay and techniques to facilitate acceptance of feelings and symptoms will be discussed. \nLearning objectives:\nAt the end of the workshop participants will be able to:-\n• formulate problems of fatigue in adults with CFS\n• plan a graded rehabilitation programme\n• address emotional difficulties without alienating the patient \nTraining modalities:\nThe workshop will be interactive and include didactic teaching\, group work\, discussion\, roleplay and feedback. \nAbout the presenter:\nTrudie Chalder is Professor of Cognitive Behavioural Psychotherapy at King’s College London. She has worked as a clinician and a researcher in the area of medically unexplained symptoms such as chronic fatigue syndrome and irritable bowel syndrome for about 25 years. She develops models for understanding and treating these conditions and evaluates the approaches within the context of randomised controlled trials in primary\, secondary and tertiary care. Her more recent research interests involve developing cognitive and behavioural models and treatment of symptoms and disability associated with chronic diseases such as Cancer.
URL:https://sites.reading.ac.uk/charlie-waller-institute/event/chronic-fatigue-syndrome-a-cognitive-behavioural-approach/
LOCATION:University of Reading\, Whiteknights Campus\, Reading\, United Kingdom
END:VEVENT
END:VCALENDAR