BEGIN:VCALENDAR
VERSION:2.0
PRODID:-//Charlie Waller Institute - ECPv5.16.4//NONSGML v1.0//EN
CALSCALE:GREGORIAN
METHOD:PUBLISH
X-WR-CALNAME:Charlie Waller Institute
X-ORIGINAL-URL:https://sites.reading.ac.uk/charlie-waller-institute
X-WR-CALDESC:Events for Charlie Waller Institute
BEGIN:VTIMEZONE
TZID:Europe/London
BEGIN:DAYLIGHT
TZOFFSETFROM:+0000
TZOFFSETTO:+0100
TZNAME:BST
DTSTART:20220327T010000
END:DAYLIGHT
BEGIN:STANDARD
TZOFFSETFROM:+0100
TZOFFSETTO:+0000
TZNAME:GMT
DTSTART:20221030T010000
END:STANDARD
END:VTIMEZONE
BEGIN:VEVENT
DTSTART;TZID=Europe/London:20221012T093000
DTEND;TZID=Europe/London:20221012T163000
DTSTAMP:20260424T164256
CREATED:20211026T154549Z
LAST-MODIFIED:20220715T085216Z
UID:501-1665567000-1665592200@sites.reading.ac.uk
SUMMARY:Dr Ruth Baer – Mindfulness-based cognitive therapy (MBCT). Hosted at the University of Reading.
DESCRIPTION:1 day workshop presented by Dr Ruth Baer. \nMBCT is a family of evidence-based skills training programmes that combine mindfulness meditation practices with cognitive-behavioural exercises to reduce distress and increase well-being. Rooted in both contemplative traditions and psychological science\, MBCT programmes are typically provided in group format with weekly sessions exploring a sequence of themes designed to build skills over time. This one-day workshop provides an introduction to MBCT. After briefly exploring its history and origins\, we will consider its theoretical foundations and the evidence base supporting its effects. Important topics in the research literature will be discussed\, including outcomes\, mechanisms of change\, and potential adverse effects. Mindfulness practices and exercises will encourage an experiential understanding of mindfulness and the intended learning that may arise. \n  \nBook HereMore Information\n  \nThis workshop will run from 9:30 until 4.30 pm\, with a 45- minute break for lunch\, at a cost of £130. \nGroup bookings of 4 workshops or more will receive a 10% discount (£117.00 per session)\, and 10 workshops or more will receive a 15% discount (£110.50 per session)*. \nUniversity of Reading Students (current and graduate) will receive a 20% discount upon verification of a valid student number. Please contact cwi@reading.ac.uk in the first instance with your student number and for further instructions. \n*Please note: The online store accepts card & PayPal payment ONLY. If you wish to pay via another method or make multiple bookings to benefit from the discount\, please email the CWI Team on cwi@reading.ac.uk. \nThis event will be hosted at University of Reading. \nTaught by leading experts\, our workshops provide training opportunities in evidence-based treatments. All of our courses are accredited and are BABCP compliant providing 5.75 CPD hours\, with an approximate 50/50 split between theory and skills. The cost of the workshop includes refreshments\, lunch voucher and an electronic CPD certificate. All workshops\, unless otherwise stated\, are intended for a cross/mixed ability audience. \nWe also offer a range of training options in all psychological treatments\, all of which are recommended by the National Institute for Health and Care Excellence (NICE). \n  \nCancellations & Terms (Workshops hosted at University of Reading) \n\nDelegates will receive a full refund if notification of cancellation is received before 3pm on the Friday prior to the event. If notification is received after this time\, delegates will receive a full refund\, minus an administration fee of £15.\nDelegates can transfer their registration to another event without additional charge. We are unable to refund the difference between face to face and online events\, but the difference can be used against the cost of a future workshop.\nPlaces can be transferred to other delegates\, with prior agreement\, provided that payment has been received\, and no later than 3 days before the event.\nCancellations must have been received in writing/email and acknowledged by the Institute\, to qualify for any refunds that may be eligible.\n\n  \nTo sign up to our mailing list please click on the button below. You can read our University Privacy Policy here: https://www.reading.ac.uk/15/about/about-privacy.aspx \nMailing List
URL:https://sites.reading.ac.uk/charlie-waller-institute/event/dr-ruth-baer-mindfulness-based-cognitive-therapy-mbct/
END:VEVENT
END:VCALENDAR